BEGIN:VCALENDAR
VERSION:2.0
PRODID:-//jEvents 2.0 for Joomla//EN
CALSCALE:GREGORIAN
METHOD:PUBLISH
BEGIN:VTIMEZONE
TZID:Europe/Berlin
BEGIN:STANDARD
DTSTART:20171029T020000
RDATE:20180325T030000
TZOFFSETFROM:+0200
TZOFFSETTO:+0100
TZNAME:Europe/Berlin CET
END:STANDARD
BEGIN:STANDARD
DTSTART:20181028T020000
RDATE:20190331T030000
TZOFFSETFROM:+0200
TZOFFSETTO:+0100
TZNAME:Europe/Berlin CET
END:STANDARD
BEGIN:STANDARD
DTSTART:20191027T020000
RDATE:20200329T030000
TZOFFSETFROM:+0200
TZOFFSETTO:+0100
TZNAME:Europe/Berlin CET
END:STANDARD
BEGIN:STANDARD
DTSTART:20201025T020000
RDATE:20210328T030000
TZOFFSETFROM:+0200
TZOFFSETTO:+0100
TZNAME:Europe/Berlin CET
END:STANDARD
BEGIN:DAYLIGHT
DTSTART:20170517T150000
RDATE:20171029T020000
TZOFFSETFROM:+0100
TZOFFSETTO:+0200
TZNAME:Europe/Berlin CEST
END:DAYLIGHT
BEGIN:DAYLIGHT
DTSTART:20180325T030000
RDATE:20181028T020000
TZOFFSETFROM:+0100
TZOFFSETTO:+0200
TZNAME:Europe/Berlin CEST
END:DAYLIGHT
BEGIN:DAYLIGHT
DTSTART:20190331T030000
RDATE:20191027T020000
TZOFFSETFROM:+0100
TZOFFSETTO:+0200
TZNAME:Europe/Berlin CEST
END:DAYLIGHT
BEGIN:DAYLIGHT
DTSTART:20200329T030000
RDATE:20201025T020000
TZOFFSETFROM:+0100
TZOFFSETTO:+0200
TZNAME:Europe/Berlin CEST
END:DAYLIGHT
END:VTIMEZONE
BEGIN:VEVENT
UID:8dfe48c7be79e88cb72244333a54c51c
CATEGORIES:Club
CREATED:20171117T103430
SUMMARY:Murner See
DESCRIPTION;ENCODING=QUOTED-PRINTABLE:\n\nDer Murner See ist der kleine Bruder des Steinberger Sees. Mit einer Fl
 äche von ca. 90 bzw. 150 ha sind sie die Freizeitgewässer für Badegäste, Ta
 ucher, Wassersportler und Camper.\n\n\nVor der Rekultivierung zu einem Frei
 zeitgewässer war der Murner See zusammen mit dem Brückelsee eine Abbaustätt
 e für Braunkohle. Diese wurde, wie im gesamten Abbaugebiet (heutiges Oberpf
 älzer Seenland) üblich, im Tagebau gewonnen. Die Abtrennung der beiden Seen
  zu Brückel- und Murner See erfolgte im Nachhinein durch das Aufschütten ei
 nes Dammes mit Abraummaterial. Die Flutung der ehemaligen Braunkohlegruben 
 im gesamten Oberpfälzer Seengebiet erfolgte durch das ansteigende Grundwass
 er, nachdem die Wasserhaltung Schritt für Schritt eingestellt wurde, und da
 uerte rund zwei Jahrzehnte.\n
DTSTAMP:20260425T032407Z
DTSTART;TZID=Europe/Berlin:20180518T150000
DTEND;TZID=Europe/Berlin:20180521T150000
SEQUENCE:0
TRANSP:OPAQUE
END:VEVENT
END:VCALENDAR