BEGIN:VCALENDAR
VERSION:2.0
PRODID:-//jEvents 2.0 for Joomla//EN
CALSCALE:GREGORIAN
METHOD:PUBLISH
BEGIN:VTIMEZONE
TZID:Europe/Berlin
BEGIN:STANDARD
DTSTART:20171029T020000
RDATE:20180325T030000
TZOFFSETFROM:+0200
TZOFFSETTO:+0100
TZNAME:Europe/Berlin CET
END:STANDARD
BEGIN:STANDARD
DTSTART:20181028T020000
RDATE:20190331T030000
TZOFFSETFROM:+0200
TZOFFSETTO:+0100
TZNAME:Europe/Berlin CET
END:STANDARD
BEGIN:STANDARD
DTSTART:20191027T020000
RDATE:20200329T030000
TZOFFSETFROM:+0200
TZOFFSETTO:+0100
TZNAME:Europe/Berlin CET
END:STANDARD
BEGIN:STANDARD
DTSTART:20201025T020000
RDATE:20210328T030000
TZOFFSETFROM:+0200
TZOFFSETTO:+0100
TZNAME:Europe/Berlin CET
END:STANDARD
BEGIN:DAYLIGHT
DTSTART:20171026T100000
RDATE:20171029T020000
TZOFFSETFROM:+0100
TZOFFSETTO:+0200
TZNAME:Europe/Berlin CEST
END:DAYLIGHT
BEGIN:DAYLIGHT
DTSTART:20180325T030000
RDATE:20181028T020000
TZOFFSETFROM:+0100
TZOFFSETTO:+0200
TZNAME:Europe/Berlin CEST
END:DAYLIGHT
BEGIN:DAYLIGHT
DTSTART:20190331T030000
RDATE:20191027T020000
TZOFFSETFROM:+0100
TZOFFSETTO:+0200
TZNAME:Europe/Berlin CEST
END:DAYLIGHT
BEGIN:DAYLIGHT
DTSTART:20200329T030000
RDATE:20201025T020000
TZOFFSETFROM:+0100
TZOFFSETTO:+0200
TZNAME:Europe/Berlin CEST
END:DAYLIGHT
END:VTIMEZONE
BEGIN:VEVENT
UID:4484b93c260ad868a6836525fc5bcea7
CATEGORIES:Club
CREATED:20171025T165853
SUMMARY:Experience Days
DESCRIPTION;ENCODING=QUOTED-PRINTABLE:\n\nEXPERIENCE DAYS\n\n\n \n\n\nStress &amp; Rescue\n\n\n...Dich erwarten s
 pannende Vorträge rund ums Thema Sicherheit auf Safaribooten und actionreic
 he Rettungs- und Evakuierungsübungen im Trainingsbecken!\n\n\nEin besondere
 s Highlight sind die\n\n\n- Rettungs- und Evakuierungsübungen, die unter na
 hezu realen     Rahmen-\n\n\n  bedingungen im Trainingsbecken durchgeführt 
 werden.\n\n\n \n\n\nDieser Workshop ist konzipiert für Taucher und begeiste
 rte "Safariboot-Urlauber".\n\n\n \n\n\nEs wird vermittelt:\n\n\n- worauf es
  vor und während einer Tauchsafari ankommt und\n\n\n- welche Sicherheitsmaß
 nahmen zu beachten sind.\n\n\n \n\n\nDer Experience Day mit dem Schwerpunkt
  „Sicherheit auf Safaribooten“ ist auch als 1-Tages-Workshop buchbar.\n\n\n
  \n\n\n„Advanced Medicine”\n\n\nIn dem Workshop „Advanced Medicine” bekomme
 n die Teilnehmer viele Informationen und Tipps für - eine intelligente Reis
 eplanung:\n\n\n- logistische und medizinische Besonderheiten bei Reisen in 
 entlegenen Gebieten\n\n\n- die individuelle Vorbereitung inklusive\n\n\n- R
 eiseapotheke\n\n\n- Impfberatung und\n\n\n- Unfallprävention.\n\n\nEs werde
 n Anleitungen für Hilfe zur Selbsthilfe bei fehlender medizinischer Versorg
 ung gegeben. Wir werden anhand von Fallbeispielen auf einzelne Aspekte hinw
 eisen und die Teilnehmer dafür sensibilisieren.\n\n\nDazu gehören z. B.: Gr
 undlagen einer chirurgischen Wundversorgung (Nähen), Umgang mit der Reiseap
 otheke, Malariaschnelltests usw., die in diesem Workshop auch eine praktisc
 he Anwendung finden.\n\n\nDer Advanced Medicine Kurs kann in Kombination mi
 t dem „Sicherheit auf Safaribooten” Workshop als 2-Tages-Kurs gebucht werde
 n.\n\n\nTeilnahmevoraussetzungen:\n\n\n- Jeder Taucher kann teilnehmen – eg
 al ob Sporttaucher (ab 50 TG), Tauchlehrer\n\n\n  oder Guide.\n\n\n- Eine g
 ute körperliche Grundfitness ist Voraussetzung.\n\n\n  Sichere Dir bereits 
 jetzt die streng limitierten Teilnahmetickets!\n\n\n \n\n\nAusbildungsort: 
   Maritimes Kompetenzzentrum Elsfleth\n\n\n \n\n\nVoranmeldung + rechtzeiti
 g * erforderlich  !\n\n\n \n\n\nSicherheit auf Safaribooten (1-Tages-Worksh
 op)\n\n\nSicherheit auf Safaribooten – Advanced Medicine (2-Tages-Workshop)
 \n
DTSTAMP:20260422T160001Z
DTSTART;TZID=Europe/Berlin:20181027T100000
DTEND;TZID=Europe/Berlin:20181028T150000
SEQUENCE:0
TRANSP:OPAQUE
END:VEVENT
END:VCALENDAR