BEGIN:VCALENDAR
VERSION:2.0
PRODID:-//jEvents 2.0 for Joomla//EN
CALSCALE:GREGORIAN
METHOD:PUBLISH
BEGIN:VTIMEZONE
TZID:Europe/Berlin
BEGIN:STANDARD
DTSTART:20171112T080000
RDATE:20180325T030000
TZOFFSETFROM:+0200
TZOFFSETTO:+0100
TZNAME:Europe/Berlin CET
END:STANDARD
BEGIN:STANDARD
DTSTART:20181028T020000
RDATE:20190331T030000
TZOFFSETFROM:+0200
TZOFFSETTO:+0100
TZNAME:Europe/Berlin CET
END:STANDARD
BEGIN:STANDARD
DTSTART:20191027T020000
RDATE:20200329T030000
TZOFFSETFROM:+0200
TZOFFSETTO:+0100
TZNAME:Europe/Berlin CET
END:STANDARD
BEGIN:STANDARD
DTSTART:20201025T020000
RDATE:20210328T030000
TZOFFSETFROM:+0200
TZOFFSETTO:+0100
TZNAME:Europe/Berlin CET
END:STANDARD
BEGIN:DAYLIGHT
DTSTART:20180325T030000
RDATE:20181028T020000
TZOFFSETFROM:+0100
TZOFFSETTO:+0200
TZNAME:Europe/Berlin CEST
END:DAYLIGHT
BEGIN:DAYLIGHT
DTSTART:20190331T030000
RDATE:20191027T020000
TZOFFSETFROM:+0100
TZOFFSETTO:+0200
TZNAME:Europe/Berlin CEST
END:DAYLIGHT
BEGIN:DAYLIGHT
DTSTART:20200329T030000
RDATE:20201025T020000
TZOFFSETFROM:+0100
TZOFFSETTO:+0200
TZNAME:Europe/Berlin CEST
END:DAYLIGHT
END:VTIMEZONE
BEGIN:VEVENT
UID:54d632e9351401a382aa003844863540
CATEGORIES:Tauch Safari
CREATED:20181113T121936
SUMMARY:Balckwater III * Tauchsafari
DESCRIPTION;ENCODING=QUOTED-PRINTABLE:\n\nRotes Meer\n\n\nTauchausbildung möglich:\n\n\n- Gas Blender\n\n\n- Wrac
 k Diver\n\n\n- Deep Diver\n\n\n- Advanced Open Water Divers\n\n\n- Night Di
 ver\n\n\n- Adv. Nitrox\n\n\n- Enriched Air Nitrox\n\n\n- Drift Diver\n\n\n-
  Deep Air 40, 45, 50\n\n\n- Deco.Procedures\n\n\n- uvm.\n
DTSTAMP:20260422T140536Z
DTSTART;TZID=Europe/Berlin:20181113T080000
DTEND;TZID=Europe/Berlin:20181113T170000
SEQUENCE:0
TRANSP:OPAQUE
END:VEVENT
END:VCALENDAR